BEGIN:VCALENDAR
VERSION:2.0
PRODID:-//Northeast Metro Coalition - ECPv6.15.14//NONSGML v1.0//EN
CALSCALE:GREGORIAN
METHOD:PUBLISH
X-WR-CALNAME:Northeast Metro Coalition
X-ORIGINAL-URL:https://genwildnemc.org
X-WR-CALDESC:Events for Northeast Metro Coalition
REFRESH-INTERVAL;VALUE=DURATION:PT1H
X-Robots-Tag:noindex
X-PUBLISHED-TTL:PT1H
BEGIN:VTIMEZONE
TZID:America/Denver
BEGIN:DAYLIGHT
TZOFFSETFROM:-0700
TZOFFSETTO:-0600
TZNAME:MDT
DTSTART:20250309T090000
END:DAYLIGHT
BEGIN:STANDARD
TZOFFSETFROM:-0600
TZOFFSETTO:-0700
TZNAME:MST
DTSTART:20251102T080000
END:STANDARD
BEGIN:DAYLIGHT
TZOFFSETFROM:-0700
TZOFFSETTO:-0600
TZNAME:MDT
DTSTART:20260308T090000
END:DAYLIGHT
BEGIN:STANDARD
TZOFFSETFROM:-0600
TZOFFSETTO:-0700
TZNAME:MST
DTSTART:20261101T080000
END:STANDARD
BEGIN:DAYLIGHT
TZOFFSETFROM:-0700
TZOFFSETTO:-0600
TZNAME:MDT
DTSTART:20270314T090000
END:DAYLIGHT
BEGIN:STANDARD
TZOFFSETFROM:-0600
TZOFFSETTO:-0700
TZNAME:MST
DTSTART:20271107T080000
END:STANDARD
END:VTIMEZONE
BEGIN:VEVENT
DTSTART;TZID=America/Denver:20260421T090000
DTEND;TZID=America/Denver:20260421T110000
DTSTAMP:20260421T035328
CREATED:20260327T145819Z
LAST-MODIFIED:20260327T145819Z
UID:4512-1776762000-1776769200@genwildnemc.org
SUMMARY:Nature Tot Tuesdays
DESCRIPTION:Bring your little ones (ages 5 and under) for a special morning just for tots and their grown-ups! From 9–11 a.m.\, the Nature Center will be open only to our tiniest explorers. Drop in at your own pace to play\, be social\, and enjoy a new self-guided activity each week. It’s the perfect time to wiggle\, wonder\, and discover nature together!
URL:https://genwildnemc.org/event/nature-tot-tuesdays-4/
LOCATION:Senac Creek Nature Center\, 5800 S. Powhaton Rd\, Aurora\, CO\, 80016\, United States
ATTACH;FMTTYPE=image/png:https://genwildnemc.org/wp-content/uploads/2025/01/Aurora-Logo-NEMC-Website.png
END:VEVENT
BEGIN:VEVENT
DTSTART;TZID=America/Denver:20260421T090000
DTEND;TZID=America/Denver:20260421T120000
DTSTAMP:20260421T035328
CREATED:20260130T174448Z
LAST-MODIFIED:20260130T174448Z
UID:4283-1776762000-1776772800@genwildnemc.org
SUMMARY:Earth Day Trash Pick Up
DESCRIPTION:Trash frequently makes its way to the Bluff Lake site from upstream in the creek\, through the storm drains that empty at Bluff Lake\, via wind\, and via litter. We want to create a safe and healthy area for visitors and wildlife\, so trash pick up is a very important project. \nYouth 8+ may attend with parental supervision. \nIf you are a group of 5 or more\, please email tess@blufflake.org before registering. \nTrash bags\, trash grabbers\, and gloves are provided. \nFor questions or help please email tess@blufflake.org
URL:https://genwildnemc.org/event/earth-day-trash-pick-up-2/
LOCATION:Bluff Lake Nature Center\, 11255 E MLK Jr Blvd\, Denver\, Colorado\, 80238
ATTACH;FMTTYPE=image/png:https://genwildnemc.org/wp-content/uploads/2025/02/images-1.png
END:VEVENT
END:VCALENDAR