BEGIN:VCALENDAR
VERSION:2.0
PRODID:-//Northeast Metro Coalition - ECPv6.15.14//NONSGML v1.0//EN
CALSCALE:GREGORIAN
METHOD:PUBLISH
X-WR-CALNAME:Northeast Metro Coalition
X-ORIGINAL-URL:https://genwildnemc.org
X-WR-CALDESC:Events for Northeast Metro Coalition
REFRESH-INTERVAL;VALUE=DURATION:PT1H
X-Robots-Tag:noindex
X-PUBLISHED-TTL:PT1H
BEGIN:VTIMEZONE
TZID:America/Denver
BEGIN:DAYLIGHT
TZOFFSETFROM:-0700
TZOFFSETTO:-0600
TZNAME:MDT
DTSTART:20250309T090000
END:DAYLIGHT
BEGIN:STANDARD
TZOFFSETFROM:-0600
TZOFFSETTO:-0700
TZNAME:MST
DTSTART:20251102T080000
END:STANDARD
BEGIN:DAYLIGHT
TZOFFSETFROM:-0700
TZOFFSETTO:-0600
TZNAME:MDT
DTSTART:20260308T090000
END:DAYLIGHT
BEGIN:STANDARD
TZOFFSETFROM:-0600
TZOFFSETTO:-0700
TZNAME:MST
DTSTART:20261101T080000
END:STANDARD
BEGIN:DAYLIGHT
TZOFFSETFROM:-0700
TZOFFSETTO:-0600
TZNAME:MDT
DTSTART:20270314T090000
END:DAYLIGHT
BEGIN:STANDARD
TZOFFSETFROM:-0600
TZOFFSETTO:-0700
TZNAME:MST
DTSTART:20271107T080000
END:STANDARD
END:VTIMEZONE
BEGIN:VEVENT
DTSTART;TZID=America/Denver:20260601T090000
DTEND;TZID=America/Denver:20260601T150000
DTSTAMP:20260421T073206
CREATED:20260227T174021Z
LAST-MODIFIED:20260320T175717Z
UID:4406-1780304400-1780326000@genwildnemc.org
SUMMARY:First Day of Summer Camp 2026
DESCRIPTION:
URL:https://genwildnemc.org/event/first-day-of-summer-camp-2026/
LOCATION:The Urban Farm\, 1200 Smith Rd.\, Denver\, Colorado\, 80239
ATTACH;FMTTYPE=image/png:https://genwildnemc.org/wp-content/uploads/2025/01/TUF-Logo-NEMC-e1748531863850.png
END:VEVENT
BEGIN:VEVENT
DTSTART;VALUE=DATE:20260602
DTEND;VALUE=DATE:20260603
DTSTAMP:20260421T073206
CREATED:20260320T180724Z
LAST-MODIFIED:20260320T180724Z
UID:4491-1780358400-1780444799@genwildnemc.org
SUMMARY:First Day of 2026 Summer Green Teams!
DESCRIPTION:To learn more about our youth Green Teams visit our website here! \nGroundwork Denver Green Teams are crews of young environmentalists who are paid members of our staff. While with us\, they take on projects that improve metro Denver’s urban environment. \nGreen Teams are offered seasonally\, with some Teams operating only in the summer\, and some with school-year opportunities. Ideal for ages 14-17 with leadership opportunities available for returning youth ages 18-21.
URL:https://genwildnemc.org/event/first-day-of-2026-summer-green-teams/
LOCATION:Colorado
ATTACH;FMTTYPE=image/png:https://genwildnemc.org/wp-content/uploads/2025/02/images.png
END:VEVENT
BEGIN:VEVENT
DTSTART;TZID=America/Denver:20260603T160000
DTEND;TZID=America/Denver:20260603T180000
DTSTAMP:20260421T073206
CREATED:20260320T200830Z
LAST-MODIFIED:20260320T200830Z
UID:4498-1780502400-1780509600@genwildnemc.org
SUMMARY:The Lounge Mentorship
DESCRIPTION:Please do not sign up for an ELK program before completing the enrollment process form at https://elkkids.org/get-involved/enroll/\nWho: Youth ages 7-22 \nWhat: A weekly mentorship program for youth to achieve success in academics and life outside of school. \nWhen: Wednesdays from 4-6pm \nWhere: ELK Education Center\, 12680 Albrook Dr. Denver\, CO 80239 \n—————————————————————————————————- \nQuién: Jóvenes de 7 a 22 años \nQué: Un programa semanal de mentoría para jóvenes con el objetivo de alcanzar el éxito en lo académico y en la vida fuera de la escuela. \nCuándo: Los miércoles de 4-6pm \nDónde: Centro Educativo ELK\, 12680 Albrook Dr. Denver\, CO 80239
URL:https://genwildnemc.org/event/the-lounge-mentorship-4/
LOCATION:Elk Education Center\, 12680 Albrook Dr.\, Denver\, CO\, 80239
ATTACH;FMTTYPE=image/png:https://genwildnemc.org/wp-content/uploads/2025/01/Elk-NEMC-Website-Logo-e1748532027185.png
END:VEVENT
BEGIN:VEVENT
DTSTART;TZID=America/Denver:20260606T080000
DTEND;TZID=America/Denver:20260606T103000
DTSTAMP:20260421T073206
CREATED:20260227T180048Z
LAST-MODIFIED:20260227T180048Z
UID:4436-1780732800-1780741800@genwildnemc.org
SUMMARY:Bird Walk
DESCRIPTION:Join our birding experts on a walk around Bluff Lake! Bird walks take place on the first Saturday of each month. Start time is 8:00am for the fall and winter months. \nRSVP via the link on our website\, where you can also check out more birdwatching information and sign up for our birding mailing list. \nWe will bird in groups of 10 or less (multiple groups if necessary).
URL:https://genwildnemc.org/event/bird-walk-5/
LOCATION:Bluff Lake Nature Center\, 11255 E MLK Jr Blvd\, Denver\, Colorado\, 80238
ATTACH;FMTTYPE=image/png:https://genwildnemc.org/wp-content/uploads/2025/02/images-1.png
END:VEVENT
BEGIN:VEVENT
DTSTART;TZID=America/Denver:20260606T083000
DTEND;TZID=America/Denver:20260606T120000
DTSTAMP:20260421T073206
CREATED:20260320T181107Z
LAST-MODIFIED:20260320T181107Z
UID:4493-1780734600-1780747200@genwildnemc.org
SUMMARY:City of Aurora Water-Wise Day
DESCRIPTION:SCRGP will be hosting an interactive booth at this year’s City of Aurora Water-Wise Day. Join Aurora Water Conservation\, us\, and dozens of other community organizations for a day of water-wise learning\, garden tours\, hands-on fun\, and smart solutions for thriving in our dry climate. \nCome to the Aurora Water-wise Garden and celebrate all things water-wise. Listen to gardening tips from local experts like CSU Extension Service\, learn about efficient irrigation from leaders in the industry\, Hunter Industries and Rainbird\, and chat with natural resource experts on helping pollinators. \nThen\, stroll the beautiful\, ten-acre garden while you enjoy a free breakfast burrito. Take home tons of info on conserving water in your yard\, free seed packets collected locally\, an indoor water conservation kit\, and more! Activities will run from 8:30 a.m. to noon. \nFind out more about Water-Wise Day. \nWe hope to see you there! \n————- \nSCRGP organizará un stand interactivo en el Día del Agua Consciente de la Ciudad de Aurora de este año. Únase a Aurora Water Conservation\, a nosotros y a docenas de otras organizaciones comunitarias para un día de aprendizaje sobre el uso eficiente del agua\, recorridos por jardines\, diversión práctica y soluciones inteligentes para prosperar en nuestro clima seco. \nVenga al Jardín Water-Wise de Aurora y celebre todo lo relacionado con el uso consciente del agua. Escuche consejos de jardinería de expertos locales como el Servicio de Extensión de CSU\, aprenda sobre riego eficiente de líderes de la industria\, Hunter Industries y Rainbird\, y converse con expertos en recursos naturales sobre cómo ayudar a los polinizadores. \nLuego\, pasee por el hermoso jardín de diez acres mientras disfruta de un burrito de desayuno gratuito. ¡Llévese mucha información sobre cómo conservar agua en su jardín\, paquetes de semillas gratuitos recolectados localmente\, un kit de conservación de agua para interiores y más! Las actividades se llevarán a cabo de 8:30 a.m. a mediodía. \nDescubra más sobre el Día del Agua Consciente. \n¡Esperamos verlo allí!
URL:https://genwildnemc.org/event/city-of-aurora-water-wise-day/
LOCATION:Aurora Water-Wise Garden\, 15151 East Alameda Parkway\, Aurora\, CO\, 80012
ATTACH;FMTTYPE=image/png:https://genwildnemc.org/wp-content/uploads/2025/02/images-1-1.png
END:VEVENT
BEGIN:VEVENT
DTSTART;TZID=America/Denver:20260614T090000
DTEND;TZID=America/Denver:20260614T103000
DTSTAMP:20260421T073206
CREATED:20260320T174827Z
LAST-MODIFIED:20260320T174827Z
UID:4468-1781427600-1781433000@genwildnemc.org
SUMMARY:Nature Wanders of Wonder
DESCRIPTION:Join certified nature connection guide Sheri Peterson on a mindfulness-focused walk to take in the wonder of the natural world. \nRSVP here\, as spots are limited. \nFind more information on our website about upcoming dates and what to expect.
URL:https://genwildnemc.org/event/nature-wanders-of-wonder/
LOCATION:Bluff Lake Nature Center\, 11255 E MLK Jr Blvd\, Denver\, Colorado\, 80238
ATTACH;FMTTYPE=image/png:https://genwildnemc.org/wp-content/uploads/2025/02/images-1.png
END:VEVENT
BEGIN:VEVENT
DTSTART;TZID=America/Denver:20260616T090000
DTEND;TZID=America/Denver:20260618T120000
DTSTAMP:20260421T073206
CREATED:20260327T151356Z
LAST-MODIFIED:20260327T151356Z
UID:4532-1781600400-1781784000@genwildnemc.org
SUMMARY:Aurora's Life History Nature Camp
DESCRIPTION:Aurora’s habitats are as diverse as the constituents that live among them\, and in this summer camp for older youth we get the chance to travel to a few more of our open spaces for some fun\, hands on learning and stewardship activities. From habitat restoration to wildlife monitoring to this camp combines environmental stewardship\, Aurora’s colorful history\, and adventure. Camp starts and ends at Morrison Nature Center with campers transported to other open spaces in the middle.
URL:https://genwildnemc.org/event/auroras-life-history-nature-camp/
LOCATION:Morrison Nature Center\, 16002 Smith Rd\, Denver\, Colorado\, 80011
ATTACH;FMTTYPE=image/png:https://genwildnemc.org/wp-content/uploads/2025/01/Aurora-Logo-NEMC-Website.png
END:VEVENT
BEGIN:VEVENT
DTSTART;TZID=America/Denver:20260620T080000
DTEND;TZID=America/Denver:20260620T110000
DTSTAMP:20260421T073206
CREATED:20260320T175032Z
LAST-MODIFIED:20260320T175032Z
UID:4470-1781942400-1781953200@genwildnemc.org
SUMMARY:Earth Listening Circles
DESCRIPTION:Free Event\, Please Register here. \n“Earth Listening Circles provide a sacred space for guided meditation\, reflective dialogue\, and the cultivation of collective wisdom\, empowering participants to address today’s pressing issues with renewed strength\, clarity\, and purpose.” – Pachamama Alliance \nConnect deeply with nature and build community in this three hour event focused on listening to ourselves\, the earth\, and each other. \nJoin us as we take the morning to slow down and reconnect with nature. We will have an indoor and outdoor reserved spot at Bluff Lake that is comfortable\, quiet\, and out of the way so that we can focus on our gathering. The weather is part of the deal\, so please dress in comfortable layers to spend some time outdoors. These get togethers are led by Sheri Peterson\, a certified Nature Connected Coach and Transformational Wilderness Guide. These circles will happen once every two months to provide a longer and more in-depth mindfulness activity. Recommended age 16 and up. \nSheri also leads our monthly Wonder Wanders. You can learn more about her offerings at www.yourpathcoach.org. We hope to connect with you on the land! \nFor questions or help please email us at education@blufflake.org
URL:https://genwildnemc.org/event/earth-listening-circles-4/
LOCATION:Bluff Lake Nature Center\, 11255 E MLK Jr Blvd\, Denver\, Colorado\, 80238
ATTACH;FMTTYPE=image/png:https://genwildnemc.org/wp-content/uploads/2025/02/images-1.png
END:VEVENT
BEGIN:VEVENT
DTSTART;TZID=America/Denver:20260627T100000
DTEND;TZID=America/Denver:20260627T133000
DTSTAMP:20260421T073206
CREATED:20260320T175122Z
LAST-MODIFIED:20260320T175122Z
UID:4472-1782554400-1782567000@genwildnemc.org
SUMMARY:Family Nature Adventure Day
DESCRIPTION:Join us for this monthly event series that gets your family outside and learning. No cost and no reservation required. Join us near our entryway for seasonal crafts\, activities\, guided walks\, and local education partners. Every month is a new adventure. Weather permitting. \nFor questions email: education@blufflake.org
URL:https://genwildnemc.org/event/family-nature-adventure-day-4/
LOCATION:Bluff Lake Nature Center\, 11255 E MLK Jr Blvd\, Denver\, Colorado\, 80238
ATTACH;FMTTYPE=image/png:https://genwildnemc.org/wp-content/uploads/2025/02/images-1.png
END:VEVENT
BEGIN:VEVENT
DTSTART;TZID=America/Denver:20260628T073000
DTEND;TZID=America/Denver:20260628T090000
DTSTAMP:20260421T073206
CREATED:20260320T175238Z
LAST-MODIFIED:20260320T175238Z
UID:4474-1782631800-1782637200@genwildnemc.org
SUMMARY:Qigong and Mindfulness Walk
DESCRIPTION:(FREE) Gentle mind/body practice that promotes health and well-being followed by a contemplative walk. Last Sunday of each month starting at 7:30 AM. \nClass is limited to 18 participants. Please RSVP at this link to reserve your spot! Email us at education@blufflake.org with any questions.
URL:https://genwildnemc.org/event/qigong-and-mindfulness-walk-4/
LOCATION:Bluff Lake Nature Center\, 11255 E MLK Jr Blvd\, Denver\, Colorado\, 80238
ATTACH;FMTTYPE=image/png:https://genwildnemc.org/wp-content/uploads/2025/02/images-1.png
END:VEVENT
BEGIN:VEVENT
DTSTART;TZID=America/Denver:20260628T100000
DTEND;TZID=America/Denver:20260628T120000
DTSTAMP:20260421T073206
CREATED:20260320T175353Z
LAST-MODIFIED:20260320T175353Z
UID:4476-1782640800-1782648000@genwildnemc.org
SUMMARY:LA NATURALEZA HABLA ESPAÑOL
DESCRIPTION:¡Ven y disfruta de un día lleno de actividades y de una caminata al aire libre\, todo en español! \nAcompáñanos en Bluff Lake Nature Center para un evento especial donde exploraremos la belleza de la naturaleza en español. Este programa gratuito es una excelente oportunidad para disfrutar y conectar en familia con la naturaleza de Colorado. \nCada sesión dura dos horas\, de 10:00 a. m. a 12:00 p. m.\, y se lleva a cabo durante la última semana de cada mes. La primera hora incluye una actividad práctica con educadores ambientales y organizaciones invitadas\, mientras que la segunda hora consiste en una caminata guiada por la naturaleza alrededor de Bluff Lake.\nTambién podrás disfrutar de botanas y aprovechar la renta gratuita de equipo\, como binoculares. ¡No te lo pierdas!\nEs necesario inscribirse.\nhttps://www.eventbrite.com/e/la-naturaleza-habla-espanol-tickets-1980203043609?aff=oddtdtcreator 
URL:https://genwildnemc.org/event/la-naturaleza-habla-espanol-2/
LOCATION:Bluff Lake Nature Center\, 11255 E MLK Jr Blvd\, Denver\, Colorado\, 80238
ATTACH;FMTTYPE=image/png:https://genwildnemc.org/wp-content/uploads/2025/02/images-1.png
END:VEVENT
BEGIN:VEVENT
DTSTART;TZID=America/Denver:20260704T080000
DTEND;TZID=America/Denver:20260704T103000
DTSTAMP:20260421T073206
CREATED:20260320T175450Z
LAST-MODIFIED:20260320T175450Z
UID:4478-1783152000-1783161000@genwildnemc.org
SUMMARY:Bird Walk
DESCRIPTION:Join our birding experts on a walk around Bluff Lake! Bird walks take place on the first Saturday of each month. Start time is 8:00am for the fall and winter months. \nRSVP via the link on our website\, where you can also check out more birdwatching information and sign up for our birding mailing list. \nWe will bird in groups of 10 or less (multiple groups if necessary).
URL:https://genwildnemc.org/event/bird-walk-2/
LOCATION:Bluff Lake Nature Center\, 11255 E MLK Jr Blvd\, Denver\, Colorado\, 80238
ATTACH;FMTTYPE=image/png:https://genwildnemc.org/wp-content/uploads/2025/02/images-1.png
END:VEVENT
END:VCALENDAR