BEGIN:VCALENDAR
VERSION:2.0
PRODID:-//Northeast Metro Coalition - ECPv6.15.14//NONSGML v1.0//EN
CALSCALE:GREGORIAN
METHOD:PUBLISH
X-WR-CALNAME:Northeast Metro Coalition
X-ORIGINAL-URL:https://genwildnemc.org
X-WR-CALDESC:Events for Northeast Metro Coalition
REFRESH-INTERVAL;VALUE=DURATION:PT1H
X-Robots-Tag:noindex
X-PUBLISHED-TTL:PT1H
BEGIN:VTIMEZONE
TZID:America/Denver
BEGIN:DAYLIGHT
TZOFFSETFROM:-0700
TZOFFSETTO:-0600
TZNAME:MDT
DTSTART:20250309T090000
END:DAYLIGHT
BEGIN:STANDARD
TZOFFSETFROM:-0600
TZOFFSETTO:-0700
TZNAME:MST
DTSTART:20251102T080000
END:STANDARD
BEGIN:DAYLIGHT
TZOFFSETFROM:-0700
TZOFFSETTO:-0600
TZNAME:MDT
DTSTART:20260308T090000
END:DAYLIGHT
BEGIN:STANDARD
TZOFFSETFROM:-0600
TZOFFSETTO:-0700
TZNAME:MST
DTSTART:20261101T080000
END:STANDARD
BEGIN:DAYLIGHT
TZOFFSETFROM:-0700
TZOFFSETTO:-0600
TZNAME:MDT
DTSTART:20270314T090000
END:DAYLIGHT
BEGIN:STANDARD
TZOFFSETFROM:-0600
TZOFFSETTO:-0700
TZNAME:MST
DTSTART:20271107T080000
END:STANDARD
END:VTIMEZONE
BEGIN:VEVENT
DTSTART;TZID=America/Denver:20260327T090000
DTEND;TZID=America/Denver:20260327T150000
DTSTAMP:20260421T140128
CREATED:20260130T181734Z
LAST-MODIFIED:20260130T181734Z
UID:4301-1774602000-1774623600@genwildnemc.org
SUMMARY:Day Off School Camp
DESCRIPTION:
URL:https://genwildnemc.org/event/day-off-school-camp-5/
LOCATION:The Urban Farm\, 1200 Smith Rd.\, Denver\, Colorado\, 80239
ATTACH;FMTTYPE=image/png:https://genwildnemc.org/wp-content/uploads/2025/01/TUF-Logo-NEMC-e1748531863850.png
END:VEVENT
BEGIN:VEVENT
DTSTART;TZID=America/Denver:20260326T130000
DTEND;TZID=America/Denver:20260326T160000
DTSTAMP:20260421T140128
CREATED:20260130T190009Z
LAST-MODIFIED:20260130T190009Z
UID:4343-1774530000-1774540800@genwildnemc.org
SUMMARY:STEAM Club
DESCRIPTION:Please do not sign up for an ELK program before completing the enrollment process form at https://elkkids.org/get-involved/enroll/\nWho: Elementary and middle school students with early release on Thursdays \nWhat: Lunch and a variety of science\, technology\, engineering\, art\, and math activities\, games\, and crafts. STEAM Club is different each week! \nWhen: Thursdays from 12:30-3pm \nWhere: ELK Education Center\, 12680 Albrook Dr. Denver\, CO 80239 \n——————————————————————————————————————- \nQuién: Estudiantes de primaria y secundaria con salida temprana los jueves \nQué: Almuerzo y una variedad de actividades relacionadas con la naturaleza\, juegos y manualidades. ¡Es diferente cada semana! \nCuándo: Jueves de 12:30-3pm \nDónde: Centro Educativo ELK\, 12680 Albrook Dr. Denver\, CO 80239
URL:https://genwildnemc.org/event/steam-club-12/
LOCATION:Elk Education Center\, 12680 Albrook Dr.\, Denver\, CO\, 80239
ATTACH;FMTTYPE=image/png:https://genwildnemc.org/wp-content/uploads/2025/01/Elk-NEMC-Website-Logo-e1748532027185.png
END:VEVENT
BEGIN:VEVENT
DTSTART;TZID=America/Denver:20260325T160000
DTEND;TZID=America/Denver:20260325T180000
DTSTAMP:20260421T140128
CREATED:20260130T185039Z
LAST-MODIFIED:20260130T185039Z
UID:4341-1774454400-1774461600@genwildnemc.org
SUMMARY:The Lounge Mentorship
DESCRIPTION:Please do not sign up for an ELK program before completing the enrollment process form at https://elkkids.org/get-involved/enroll/\nWho: Youth ages 7-22 \nWhat: A weekly mentorship program for youth to achieve success in academics and life outside of school. \nWhen: Wednesdays from 4-6pm \nWhere: ELK Education Center\, 12680 Albrook Dr. Denver\, CO 80239 \n—————————————————————————————————- \nQuién: Jóvenes de 7 a 22 años \nQué: Un programa semanal de mentoría para jóvenes con el objetivo de alcanzar el éxito en lo académico y en la vida fuera de la escuela. \nCuándo: Los miércoles de 4-6pm \nDónde: Centro Educativo ELK\, 12680 Albrook Dr. Denver\, CO 80239
URL:https://genwildnemc.org/event/the-lounge-mentorship-13/
LOCATION:Elk Education Center\, 12680 Albrook Dr.\, Denver\, CO\, 80239
ATTACH;FMTTYPE=image/png:https://genwildnemc.org/wp-content/uploads/2025/01/Elk-NEMC-Website-Logo-e1748532027185.png
END:VEVENT
BEGIN:VEVENT
DTSTART;TZID=America/Denver:20260321T070000
DTEND;TZID=America/Denver:20260321T180000
DTSTAMP:20260421T140128
CREATED:20260130T184522Z
LAST-MODIFIED:20260130T184522Z
UID:4339-1774076400-1774116000@genwildnemc.org
SUMMARY:Learn to Ski with Share Winter Foundation / Esquí con Share Winter Foundation
DESCRIPTION:Who: Youth ages 12-18 who have NEVER attended an ELK or SOS ski/snowboard program\n \nWhat: Learn how to ski at Winter Park Resort! This opportunity is for students who can commit to SEVERAL WEEKENDS of skiing or riding throughout March and April. Transportation and gear will be provided.\n \nWhen: 6am-7pm on Saturday\, March 7th\, March 21st\, March 28th\, April 4th\, and April 11th (backup date). You MUST be able to attend all dates.\n \nWhere: Meet at the ELK Education Center (12680 Albrook Dr.\, Denver\, CO 80239) before heading to Winter Park\n \nHow to RSVP: https://forms.office.com/r/jtNQdvu0Wa. We will accept the first 25 students who fit the criteria and can commit to ALL dates.\n\n\n \nQuiénes: Jóvenes de 12 a 18 años que NUNCA hayan participado en un programa de esquí o snowboard de ELK o SOS.\n\nQué: ¡Aprende a esquiar en Winter Park Resort! Esta oportunidad es para estudiantes que puedan comprometerse a asistir VARIOS FINES DE SEMANA para esquiar o practicar snowboard durante marzo y abril. Se proporcionará transporte y equipo.\n\nCuándo: De 6am-7pm los sábados 7\, 21 y 28 de marzo y 4 y 11 de abril (11 de abril es la fecha alternativa). Es IMPRESCINDIBLE poder asistir a todas las fechas.\n\nDónde: Nos reuniremos en el Centro Educativo ELK (12680 Albrook Dr.\, Denver\, CO 80239) antes de ir a Winter Park.\n\nCómo confirmar tu asistencia: https://forms.office.com/r/jtNQdvu0Wa. Aceptaremos a los primeros 25 estudiantes que cumplan con los requisitos y puedan comprometerse a asistir a TODAS las fechas.
URL:https://genwildnemc.org/event/learn-to-ski-with-share-winter-foundation-esqui-con-share-winter-foundation-2/
LOCATION:Elk Education Center\, 12680 Albrook Dr.\, Denver\, CO\, 80239
ATTACH;FMTTYPE=image/png:https://genwildnemc.org/wp-content/uploads/2025/01/Elk-NEMC-Website-Logo-e1748532027185.png
END:VEVENT
END:VCALENDAR